BEGIN:VCALENDAR
PRODID:-//Cyberglue MemberConnex//iCal4j 1.0//EN
VERSION:2.0
METHOD:PUBLISH
BEGIN:VEVENT
DTSTAMP:20181223T011652Z
DTSTART:20190618T090000
SUMMARY:Asian Stainless Steel Forum 2019
DTEND:20190619T170000
LOCATION:China
TRANSP:OPAQUE
SEQUENCE:0
DESCRIPTION:
URL:http://www.nzssda.org.nz/Event?Action=View&amp;Event_id=1083
UID:2-1083
END:VEVENT
END:VCALENDAR
